BEGIN:VCALENDAR
VERSION:2.0
PRODID:-//ChamberMaster//Event Calendar 2.0//EN
METHOD:PUBLISH
X-PUBLISHED-TTL:P3D
REFRESH-INTERVAL:P3D
CALSCALE:GREGORIAN
BEGIN:VEVENT
DTSTART:20251025T170000Z
DTEND:20251025T210000Z
X-MICROSOFT-CDO-ALLDAYEVENT:FALSE
SUMMARY:WCTE Blues & Brews
DESCRIPTION:Raise a glass and celebrate craft beer in the heart of Cookeville's historic westside! WCTE Blues & Brews\, a craft beer and music festival is back and better than ever\, happening Saturday\, October 25\, 2025\, at Trackside\, the perfect venue near the Depot for an afternoon of great brews\, delicious food\, and live entertainment.\n\n\n\nThis event is 21+. You must have a valid ID to be admitted into the festival.
X-ALT-DESC;FMTTYPE=text/html:Raise a glass and celebrate craft beer in the heart of Cookeville&rsquo\;s historic westside! WCTE Blues &amp\; Brews\, a craft beer and music festival is back and better than ever\, happening Saturday\, October 25\, 2025\, at Trackside\, the perfect venue near the Depot for an afternoon of great brews\, delicious food\, and live entertainment.<br />\n<br />\nThis event is 21+. You must have a valid ID to be admitted into the festival.<br />\n&nbsp\;
LOCATION:Trackside 172 W Broad St\, Cookeville\, TN 38501
UID:e.1993.2081
SEQUENCE:3
DTSTAMP:20260421T082703Z
URL:https://business.cookevillechamber.com/events/details/wcte-blues-brews-2081
END:VEVENT

END:VCALENDAR
