BEGIN:VCALENDAR
VERSION:2.0
PRODID:-//ChamberMaster//Event Calendar 2.0//EN
METHOD:PUBLISH
X-PUBLISHED-TTL:P3D
REFRESH-INTERVAL:P3D
CALSCALE:GREGORIAN
BEGIN:VEVENT
DTSTART:20260619T003000Z
DTEND:20260619T020000Z
X-MICROSOFT-CDO-ALLDAYEVENT:FALSE
SUMMARY:Third Thursday in the Park Concerts
DESCRIPTION:Enjoy free concerts on the third Thursday of each month\, May through August\, at the Dogwood Performance Pavilion. A different band is featured each month\, covering a variety of music genres. This series is sponsored by the Cookeville Arts Council. Presented by Leisure Services
X-ALT-DESC;FMTTYPE=text/html:Enjoy free concerts on the third Thursday of each month\, May through August\, at the Dogwood Performance Pavilion. A different band is featured each month\, covering a variety of music genres. This series is sponsored by the Cookeville Arts Council. Presented by Leisure Services
LOCATION:Dogwood Performance Pavilion 43 N Walnut Ave\, Cookeville\, TN 38501
UID:e.1993.2288
SEQUENCE:3
DTSTAMP:20260422T014518Z
URL:https://business.cookevillechamber.com/events/details/third-thursday-in-the-park-concerts-06-18-2026-2288
END:VEVENT

END:VCALENDAR
