BEGIN:VCALENDAR
VERSION:2.0
PRODID:-//ChamberMaster//Event Calendar 2.0//EN
METHOD:PUBLISH
X-PUBLISHED-TTL:P3D
REFRESH-INTERVAL:P3D
CALSCALE:GREGORIAN
BEGIN:VEVENT
DTSTART:20260715T190000Z
DTEND:20260718T190000Z
X-MICROSOFT-CDO-ALLDAYEVENT:FALSE
SUMMARY:Tennessee Basketry Association 2026 Convention
DESCRIPTION:The Tennessee Basketry Association is bringing a fun filled week to Cookeville! Check out their website to find daily information about the classes you can come take! You do not want to miss out on this unique opportunity that is open for anyone to join!
X-ALT-DESC;FMTTYPE=text/html:The Tennessee Basketry Association is bringing a fun filled week to Cookeville! Check out their website to find daily information about the classes you can come take! You do not want to miss out on this unique opportunity that is open for anyone to join!
LOCATION:Leslie Town Centre 1 W First Street\, Cookeville\, TN 38501
UID:e.1993.2267
SEQUENCE:3
DTSTAMP:20260422T030816Z
URL:https://business.cookevillechamber.com/events/details/tennessee-basketry-association-2026-convention-2267
END:VEVENT

END:VCALENDAR
