BEGIN:VCALENDAR
VERSION:2.0
PRODID:-//ChamberMaster//Event Calendar 2.0//EN
METHOD:PUBLISH
X-PUBLISHED-TTL:P3D
REFRESH-INTERVAL:P3D
CALSCALE:GREGORIAN
BEGIN:VEVENT
DTSTART:20260501T160000Z
DTEND:20260501T163000Z
X-MICROSOFT-CDO-ALLDAYEVENT:FALSE
SUMMARY:Ribbon Cutting: Tramont Heating Cooling Plumbing
DESCRIPTION:Join us as we celebrate Tramont Heating Cooling Plumbing with a ribbon cutting marking both the grand opening of their new location and their 3-year anniversary! Proudly serving Cookeville\, Sparta\, Baxter\, and surrounding areas\, Tramont has built a reputation for delivering reliable\, affordable HVAC and plumbing solutions tailored to each customer's needs. Their team takes a personalized approach\, carefully assessing each home to provide long lasting comfort\, energy efficiency\, and peace of mind. As a locally trusted business\, they are committed to exceptional customer care and treating every client like a neighbor.\n\nChamber members who attend will have the opportunity to sign up for a free 1-year Tramont Triple Play annual maintenance plan by scheduling their first appointment during the event. This plan includes one heating visit in the fall and winter\, one cooling visit in the spring and summer\, plus a yearly plumbing inspection to check for leaks\, water pressure issues\, and potential problem areas to help prevent costly repairs and keep systems running smoothly year round.\n\nCome help us recognize this exciting milestone and continued growth in our community!
X-ALT-DESC;FMTTYPE=text/html:<div class="flex max-w-full flex-col gap-4 grow">\n<div class="min-h-8 text-message relative flex w-full flex-col items-end gap-2 text-start break-words whitespace-normal outline-none keyboard-focused:focus-ring [.text-message+&amp\;]:mt-1" data-message-author-role="assistant" data-message-id="e3d4eaf8-3646-40c0-816b-ac2b23a20922" data-message-model-slug="gpt-5-3" data-turn-start-message="true" dir="auto" tabindex="0">\n<div class="flex w-full flex-col gap-1 empty:hidden">\n<div class="markdown prose dark:prose-invert w-full wrap-break-word light markdown-new-styling">\n<p data-end="623" data-start="0">Join us as we celebrate Tramont Heating Cooling Plumbing with a ribbon cutting marking both the grand opening of their new location and their 3-year anniversary! Proudly serving Cookeville\, Sparta\, Baxter\, and surrounding areas\, Tramont has built a reputation for delivering reliable\, affordable HVAC and plumbing solutions tailored to each customer&rsquo\;s needs. Their team takes a personalized approach\, carefully assessing each home to provide long lasting comfort\, energy efficiency\, and peace of mind. As a locally trusted business\, they are committed to exceptional customer care and treating every client like a neighbor.</p>\n\n<p data-end="1093" data-start="625">Chamber members who attend will have the opportunity to sign up for a free 1-year Tramont Triple Play annual maintenance plan by scheduling their first appointment during the event. This plan includes one heating visit in the fall and winter\, one cooling visit in the spring and summer\, plus a yearly plumbing inspection to check for leaks\, water pressure issues\, and potential problem areas to help prevent costly repairs and keep systems running smoothly year round.</p>\n\n<p data-end="1180" data-is-last-node="" data-is-only-node="" data-start="1095">Come help us recognize this exciting milestone and continued growth in our community!</p>\n</div>\n</div>\n</div>\n</div>\n
LOCATION:625 Neal St. Cookeville\, TN 38501
UID:e.1993.2279
SEQUENCE:3
DTSTAMP:20260421T081928Z
URL:https://business.cookevillechamber.com/events/details/ribbon-cutting-tramont-heating-cooling-plumbing-2279
END:VEVENT

END:VCALENDAR
