BEGIN:VCALENDAR
VERSION:2.0
PRODID:-//ChamberMaster//Event Calendar 2.0//EN
METHOD:PUBLISH
X-PUBLISHED-TTL:P3D
REFRESH-INTERVAL:P3D
CALSCALE:GREGORIAN
BEGIN:VEVENT
DTSTART:20260605T193000Z
DTEND:20260605T200000Z
X-MICROSOFT-CDO-ALLDAYEVENT:FALSE
SUMMARY:Ribbon Cutting: The Recovery Room
DESCRIPTION:We are excited to celebrate the grand opening of The Recovery Room Cookeville! This luxury wellness and recovery studio is focused on helping our community reset\, recharge\, and perform at their best\, offering float therapy (private rooms\, not pods)\, infrared sauna with red light\, vertical cold plunge\, and contrast therapy\, all designed to support physical and mental wellbeing.\n\nWhile they've already opened their doors\, this moment marks an important milestone in their growth and connection to the community. Join them for a ribbon cutting and open house to tour the space\, learn more about their services\, and experience what sets The Recovery Room apart. The first 10 attendees will also receive a mystery gift card!\n\nThe Recovery Room brings a high-end\, body-and-mind focused recovery experience to Cookeville\, and they look forward to serving the community.
X-ALT-DESC;FMTTYPE=text/html:<p>We are excited to celebrate the grand opening of The Recovery Room Cookeville! This luxury wellness and recovery studio is focused on helping our community reset\, recharge\, and perform at their best\, offering float therapy (private rooms\, not pods)\, infrared sauna with red light\, vertical cold plunge\, and contrast therapy\, all designed to support physical and mental wellbeing.</p>\n\n<p>While they&#39\;ve already opened their doors\, this moment marks an important milestone in their growth and connection to the community. Join them for a ribbon cutting and open house to tour the space\, learn more about their services\, and experience what sets The Recovery Room apart. The first 10 attendees will also receive a mystery gift card!</p>\n\n<p>The Recovery Room brings a high-end\, body-and-mind focused recovery experience to Cookeville\, and they look forward to serving the community.</p>\n
LOCATION:442 W Main St\, Suite B Algood\, TN 38506
UID:e.1993.2302
SEQUENCE:3
DTSTAMP:20260422T014519Z
URL:https://business.cookevillechamber.com/events/details/ribbon-cutting-the-recovery-room-2302
END:VEVENT

END:VCALENDAR
