BEGIN:VCALENDAR
VERSION:2.0
PRODID:-//ChamberMaster//Event Calendar 2.0//EN
METHOD:PUBLISH
X-PUBLISHED-TTL:P3D
REFRESH-INTERVAL:P3D
CALSCALE:GREGORIAN
BEGIN:VEVENT
DTSTART:20220523T150000Z
DTEND:20220523T200000Z
X-MICROSOFT-CDO-ALLDAYEVENT:FALSE
SUMMARY:Ribbon Cutting and Open House: Cookeville Police Department
DESCRIPTION:The Cookeville Police Department is moving into their new location on Neal Street! They are welcoming the public to come visit the new building and take self-guided tours. The event will begin with a program and ribbon cutting at 10:00am\, followed by an open house from 11:00am-3:00pm. Join us to celebrate their new facility and the men and women who protect us each day!
X-ALT-DESC;FMTTYPE=text/html:The Cookeville Police Department is moving into their new location on Neal Street! They are welcoming the public to come visit the new building and take self-guided tours. The event will begin with a program and ribbon cutting at 10:00am\, followed by an open house from 11:00am-3:00pm. Join us to celebrate their new facility and the men and women who protect us each day!
LOCATION:1019 Neal Street Cookeville\, TN 38501
UID:e.1993.1234
SEQUENCE:3
DTSTAMP:20260420T201811Z
URL:https://business.cookevillechamber.com/events/details/ribbon-cutting-and-open-house-cookeville-police-department-1234
END:VEVENT

END:VCALENDAR
