BEGIN:VCALENDAR
VERSION:2.0
PRODID:-//ChamberMaster//Event Calendar 2.0//EN
METHOD:PUBLISH
X-PUBLISHED-TTL:P3D
REFRESH-INTERVAL:P3D
CALSCALE:GREGORIAN
BEGIN:VEVENT
DTSTART:20260918T210000Z
DTEND:20260919T230000Z
X-MICROSOFT-CDO-ALLDAYEVENT:FALSE
SUMMARY:Putnam County Fall Home Show
DESCRIPTION:Putnam County Fall Home Show
X-ALT-DESC;FMTTYPE=text/html:Putnam County Fall Home Show
LOCATION:Putnam County Convention Center 2121 Event Center Dr Cookeville\, TN 38501
UID:e.1993.2265
SEQUENCE:3
DTSTAMP:20260422T055304Z
URL:https://business.cookevillechamber.com/events/details/putnam-county-fall-home-show-09-18-2026-2265
END:VEVENT

END:VCALENDAR
