BEGIN:VCALENDAR
VERSION:2.0
PRODID:-//ChamberMaster//Event Calendar 2.0//EN
METHOD:PUBLISH
X-PUBLISHED-TTL:P3D
REFRESH-INTERVAL:P3D
CALSCALE:GREGORIAN
BEGIN:VEVENT
DTSTART:20240906T223000Z
DTEND:20240907T013000Z
X-MICROSOFT-CDO-ALLDAYEVENT:FALSE
SUMMARY:Happy Trails Hoedown
DESCRIPTION:Join CASA of the Tennessee Valley for their annual event\, Happy Trails Hoedown fundraiser\, which will take place on Friday\, September 6th\, 2024 at the Lazy G Ranch of Eddie and Frida Gaw. A flyer is enclosed with more details.
X-ALT-DESC;FMTTYPE=text/html:Join CASA of the Tennessee Valley for their annual event\, Happy Trails Hoedown fundraiser\, which will take place on Friday\, September 6th\, 2024 at the Lazy G Ranch of Eddie and Frida Gaw. A flyer is enclosed with more details.&nbsp\;
LOCATION:6070 Dodson Branch RD. Cookeville\, TN 38501
UID:e.1993.1891
SEQUENCE:3
DTSTAMP:20260420T133905Z
URL:https://business.cookevillechamber.com/events/details/happy-trails-hoedown-1891
END:VEVENT

END:VCALENDAR
