BEGIN:VCALENDAR
VERSION:2.0
PRODID:-//ChamberMaster//Event Calendar 2.0//EN
METHOD:PUBLISH
X-PUBLISHED-TTL:P3D
REFRESH-INTERVAL:P3D
CALSCALE:GREGORIAN
BEGIN:VEVENT
DTSTART:20220701T220000Z
DTEND:20220703T033000Z
X-MICROSOFT-CDO-ALLDAYEVENT:FALSE
SUMMARY:Freedom Fest 2022
DESCRIPTION:Middle TN 4th of July weekend kick-off party with Chris Janson\, Davison Brothers\, and more only at The Old Gray!\n\n\n\nThe Old Gray is the Upper Cumberland's newest open-air amphitheater located just minutes off Monterey TN I-40 exit. With over 75 acres of pure entertainment\, they will be kicking off their first ever Freedom Fest on July 1st followed by more concerts to come. Don't miss out on all the fun and memories to last!\n\n\n\nBrought to you by Magna1.
X-ALT-DESC;FMTTYPE=text/html:Middle TN 4th of July weekend kick-off party with Chris Janson\, Davison Brothers\, and more only at The Old Gray!<br />\n<br />\nThe Old Gray is the Upper Cumberland&#39\;s newest open-air amphitheater located just minutes off Monterey TN I-40 exit. With over 75 acres of pure entertainment\, they will be kicking off their first ever Freedom Fest on July 1st followed by more concerts to come. Don&#39\;t miss out on all the fun and memories to last!<br />\n<br />\nBrought to you by Magna1.
LOCATION:3781 Rickman Monterey HWY Monterey\, TN 38574
UID:e.1993.1211
SEQUENCE:3
DTSTAMP:20260423T203007Z
URL:https://business.cookevillechamber.com/events/details/freedom-fest-2022-1211
END:VEVENT

END:VCALENDAR
