BEGIN:VCALENDAR
VERSION:2.0
PRODID:-//ChamberMaster//Event Calendar 2.0//EN
METHOD:PUBLISH
X-PUBLISHED-TTL:P3D
REFRESH-INTERVAL:P3D
CALSCALE:GREGORIAN
BEGIN:VEVENT
DTSTART;VALUE=DATE:20260504
DTEND;VALUE=DATE:20260602
TRANSP:TRANSPARENT
X-MICROSOFT-CDO-ALLDAYEVENT:TRUE
SUMMARY:Featured Artist: Laura Fourrier
DESCRIPTION:Laura Mulhern Fourrier is the featured artist of the month at the CPAC Lobby in Cookeville\, with her exhibition running from May 4th through June 1st. Her work\, noted as affordable\, features beautiful\, colorful\, and highly textured pieces often created with Golden fluid acrylics.
X-ALT-DESC;FMTTYPE=text/html:Laura Mulhern Fourrier is the featured artist of the month at the CPAC Lobby in Cookeville\, with her exhibition running from May 4th through June 1st. Her work\, noted as affordable\, features beautiful\, colorful\, and highly textured pieces often created with Golden fluid acrylics.
LOCATION:Cookeville Performing Arts Center 10 E Broad St #3285\, Cookeville\, TN 38501
UID:e.1993.2282
SEQUENCE:3
DTSTAMP:20260421T110944Z
URL:https://business.cookevillechamber.com/events/details/featured-artist-laura-fourrier-2282
END:VEVENT

END:VCALENDAR
