BEGIN:VCALENDAR
VERSION:2.0
PRODID:-//ChamberMaster//Event Calendar 2.0//EN
METHOD:PUBLISH
X-PUBLISHED-TTL:P3D
REFRESH-INTERVAL:P3D
CALSCALE:GREGORIAN
BEGIN:VEVENT
DTSTART:20241119T223000Z
DTEND:20241120T003000Z
X-MICROSOFT-CDO-ALLDAYEVENT:FALSE
SUMMARY:Fall Bizapalooza 2024
DESCRIPTION:Join us for the highly anticipated 2024 Fall Bizapalooza! At this semi-annual business expo\, businesses are encouraged to showcase their services with informational booths\, while community members are invited to connect and network.\n\n\n\nThis year's theme is "Friends and Flannels" so businesses are encouraged to dress their booths with fall decor and attendees are encouraged to wear their favorite fall outfits!\n\n\n\nFAQs as you prepare to host a booth:\n\n	You can begin setting up your booths starting at 1:00 PM on November 19. We recommend being set up by 4:00 PM. \n\n\n\n\n	One 6-foot table and two chairs will be provided at each booth.\n\n\n\n\n\n	If your booth needs access to an electric outlet\, let us know as we will place you accordingly. \n\n\n\n\n\n	Attendance for two (includes drink tickets) is included with booth registration. I will be sending a follow up email asking for attendee names. \n\n\n\n\n\n	Additional tickets to the event are $10 before the event and $15 at the door. \n\n\n\n\nOther options: \n\n\n\n\n	As a way to collect business cards at your booth\, you are welcome to do a giveaway of some kind that we can announce during the event. \n\n\n\n\n\n	Decorating your booth to be aligned with the theme (to be announced) is also optional.\n\n\n\n\n\n	Having an interactive game or activity to engage attendees has also proven to be a hit in the past but not required.
X-ALT-DESC;FMTTYPE=text/html:Join us for the highly anticipated 2024 Fall Bizapalooza! At this semi-annual business expo\, businesses are encouraged to showcase their services with informational booths\, while community members are invited to connect and network.<br />\n<br />\nThis year&#39\;s theme is &quot\;Friends and Flannels&quot\; so businesses are encouraged to dress their booths with fall decor and attendees are encouraged to wear their favorite fall outfits!<br />\n<br />\nFAQs as you prepare to host a booth:\n<ul>\n	<li>You can begin setting up your booths starting at 1:00 PM on November 19. We recommend being set up by 4:00 PM.&nbsp\;</li>\n</ul>\n\n<div color:="" font-feature-settings:="" font-kerning:="" font-optical-sizing:="" font-variation-settings:="" helvetica="" margin:="" padding:="" segoe="" ui="" vertical-align:="" web="" west="">\n<ul type="disc">\n	<li>One 6-foot table and two chairs will be provided at each booth.</li>\n</ul>\n</div>\n\n<div color:="" font-feature-settings:="" font-kerning:="" font-optical-sizing:="" font-variation-settings:="" helvetica="" margin:="" padding:="" segoe="" ui="" vertical-align:="" web="" west="">\n<ul type="disc">\n	<li>If your booth needs access to an electric outlet\, let us know as we will place you accordingly.&nbsp\;</li>\n</ul>\n</div>\n\n<div color:="" font-feature-settings:="" font-kerning:="" font-optical-sizing:="" font-variation-settings:="" helvetica="" margin:="" padding:="" segoe="" ui="" vertical-align:="" web="" west="">\n<ul type="disc">\n	<li>Attendance for two (includes drink tickets) is included with booth registration. I will be sending a follow&nbsp\;up email asking for attendee names.&nbsp\;</li>\n</ul>\n</div>\n\n<div color:="" font-feature-settings:="" font-kerning:="" font-optical-sizing:="" font-variation-settings:="" helvetica="" margin:="" padding:="" segoe="" ui="" vertical-align:="" web="" west="">\n<ul type="disc">\n	<li>Additional tickets to the event are $10 before the event and $15 at the door.&nbsp\;</li>\n</ul>\n</div>\n\n<div color:="" font-feature-settings:="" font-kerning:="" font-optical-sizing:="" font-variation-settings:="" helvetica="" margin:="" padding:="" segoe="" ui="" vertical-align:="" web="" west="">\n<p>Other options:&nbsp\;</p>\n</div>\n\n<div color:="" font-feature-settings:="" font-kerning:="" font-optical-sizing:="" font-variation-settings:="" helvetica="" margin:="" padding:="" segoe="" ui="" vertical-align:="" web="" west="">\n<ul type="disc">\n	<li>As a way to collect business cards at your booth\, you are welcome to do a giveaway of some kind that we can announce during the event.&nbsp\;</li>\n</ul>\n</div>\n\n<div color:="" font-feature-settings:="" font-kerning:="" font-optical-sizing:="" font-variation-settings:="" helvetica="" margin:="" padding:="" segoe="" ui="" vertical-align:="" web="" west="">\n<ul type="disc">\n	<li>Decorating your booth to be aligned with the theme (to be announced) is also optional.</li>\n</ul>\n</div>\n\n<div color:="" font-feature-settings:="" font-kerning:="" font-optical-sizing:="" font-variation-settings:="" helvetica="" margin:="" padding:="" segoe="" ui="" vertical-align:="" web="" west="">\n<ul type="disc">\n	<li>Having an interactive game or activity to engage attendees has also proven to be a hit in the past but not required.</li>\n</ul>\n</div>\n
LOCATION:Leslie Town Centre One W 1st St Cookeville\, TN
UID:e.1993.1983
SEQUENCE:3
DTSTAMP:20260420T054516Z
URL:https://business.cookevillechamber.com/events/details/fall-bizapalooza-2024-1983
END:VEVENT

END:VCALENDAR
