BEGIN:VCALENDAR
VERSION:2.0
PRODID:-//ChamberMaster//Event Calendar 2.0//EN
METHOD:PUBLISH
X-PUBLISHED-TTL:P3D
REFRESH-INTERVAL:P3D
CALSCALE:GREGORIAN
BEGIN:VEVENT
DTSTART:20240427T170000Z
DTEND:20240427T200000Z
X-MICROSOFT-CDO-ALLDAYEVENT:FALSE
SUMMARY:Dog Adoption Day
DESCRIPTION:Putnam County Animal Shelter will be set up behind the shop in our outdoor seating area. Come on over to grab lunch and play with some sweet pups! Maybe even find your next furry family member!
X-ALT-DESC;FMTTYPE=text/html:Putnam County Animal Shelter will be set up behind the shop in our outdoor seating area. Come on over to grab lunch and play with some sweet pups! Maybe even find your next furry family member!
LOCATION:Milo & Lucy's Coffee Spot 108 E. Main Street Algood\, TN 38506
UID:e.1993.1828
SEQUENCE:3
DTSTAMP:20260420T123648Z
URL:https://business.cookevillechamber.com/events/details/dog-adoption-day-1828
END:VEVENT

END:VCALENDAR
