BEGIN:VCALENDAR
VERSION:2.0
PRODID:-//ChamberMaster//Event Calendar 2.0//EN
METHOD:PUBLISH
X-PUBLISHED-TTL:P3D
REFRESH-INTERVAL:P3D
CALSCALE:GREGORIAN
BEGIN:VEVENT
DTSTART;VALUE=DATE:20220212
DTEND;VALUE=DATE:20220213
TRANSP:TRANSPARENT
X-MICROSOFT-CDO-ALLDAYEVENT:TRUE
SUMMARY:Cupid's Chase 5k
DESCRIPTION:Community Options develops housing and employment supports for individuals with developmental disabilities\, severe physical and cognitive disabilities\, and traumatic brain injury. When serving more than 4\,500 individuals across ten states\, the cost to provide a high quality of life often exceeds government allowances. Cupid's Chase 5k is the organization's fun and engaging way to raise the funds we need to bridge that gap. www.cupidschase.org
X-ALT-DESC;FMTTYPE=text/html:Community Options develops housing and employment supports for individuals with developmental disabilities\, severe physical and cognitive disabilities\, and traumatic brain injury. When serving more than 4\,500 individuals across ten states\, the cost to provide a high quality of life often exceeds government allowances. Cupid&#39\;s Chase 5k is the organization&#39\;s fun and engaging way to raise the funds we need to bridge that gap. www.cupidschase.org
LOCATION:Tennessee Tech Campus
UID:e.1993.1133
SEQUENCE:3
DTSTAMP:20260423T111717Z
URL:https://business.cookevillechamber.com/events/details/cupid-s-chase-5k-1133
END:VEVENT

END:VCALENDAR
