BEGIN:VCALENDAR
VERSION:2.0
PRODID:-//ChamberMaster//Event Calendar 2.0//EN
METHOD:PUBLISH
X-PUBLISHED-TTL:P3D
REFRESH-INTERVAL:P3D
CALSCALE:GREGORIAN
BEGIN:VEVENT
DTSTART:20250926T150000Z
DTEND:20250926T170000Z
X-MICROSOFT-CDO-ALLDAYEVENT:FALSE
SUMMARY:Conquer the Chaos
DESCRIPTION:Friday\, September 26\, 2025\n\n\n	10:00 AM  12:00 PM
X-ALT-DESC;FMTTYPE=text/html:<div class="eventlist-meta-item eventlist-meta-date event-meta-item" style="margin: 0px\; padding: 0px\; text-align: left\;"><time class="event-date" datetime="2025-09-26">Friday\, September 26\, 2025</time></div>\n\n<ul class="eventlist-meta event-meta" data-animation-role="date" style="list-style-type: none\; margin: 0px 0px 17px\; padding-right: 0px\; padding-left: 0px\; color: rgb(0\, 0\, 0)\; font-family: adobe-garamond-pro\; font-size: 18.6427px\;">\n	<li class="eventlist-meta-item eventlist-meta-time event-meta-item" style="margin: 0px\; padding: 0px\; text-align: left\;"><span class="event-time-localized"><time class="event-time-localized-start" datetime="2025-09-26">10:00&#8239\;AM</time>&nbsp\;&nbsp\;<time class="event-time-localized-end" datetime="2025-09-26">12:00&#8239\;PM</time></span></li>\n</ul>\n
LOCATION:Highlands Training Center 1736 E. Spring Street Cookeville\, TN 38506 1736 E Spring St Cookeville\, TN 38501 1736 E Spring St Cookeville\, TN 38501 1736 E Spring St Cookeville\, TN 38501
UID:e.1993.2162
SEQUENCE:3
DTSTAMP:20260421T081520Z
URL:https://business.cookevillechamber.com/events/details/conquer-the-chaos-2162
END:VEVENT

END:VCALENDAR
