BEGIN:VCALENDAR
VERSION:2.0
PRODID:-//ChamberMaster//Event Calendar 2.0//EN
METHOD:PUBLISH
X-PUBLISHED-TTL:P3D
REFRESH-INTERVAL:P3D
CALSCALE:GREGORIAN
BEGIN:VEVENT
DTSTART:20260501T220000Z
DTEND:20260502T010000Z
X-MICROSOFT-CDO-ALLDAYEVENT:FALSE
SUMMARY:Art Round Tennessee First Friday
DESCRIPTION:Join Art Round Tennessee's FIRST First Friday of the year on May 1 in Cookeville's Spring St. Arts District! Take a stroll down Spring St. to explore unique shops\, meet local artists\, and view and purchase original works of art at: ? Vertical Coffee Company: Artist Brittany Robert ?? Picasso's Gift Shop: Artist Margarette Bass ?? Wonderfill Refillery: Artists Sandy & Bill Miller ?? Featuring Live Music by Matt Beale. This event is open to the public for all ages with a suggested donation of just $5 to support local art initiatives. Our May event is the perfect chance to pick out a special Mother's Day or graduation gift\, or just treat yourself! While you're at this event\, we encourage you to also patronize other beloved Arts District spots\, including: ?? Dream Country Brewing ?? Gene's Place Pizzeria & Pub ?? The Table: Cookeville's Board Game Lounge
X-ALT-DESC;FMTTYPE=text/html:Join Art Round Tennessee&#39\;s FIRST First Friday of the year on May 1 in Cookeville&#39\;s Spring St. Arts District! Take a stroll down Spring St. to explore unique shops\, meet local artists\, and view and purchase original works of art at: ? Vertical Coffee Company: Artist Brittany Robert ?? Picasso&#39\;s Gift Shop: Artist Margarette Bass ?? Wonderfill Refillery: Artists Sandy &amp\; Bill Miller ?? Featuring Live Music by Matt Beale. This event is open to the public for all ages with a suggested donation of just $5 to support local art initiatives. Our May event is the perfect chance to pick out a special Mother&#39\;s Day or graduation gift\, or just treat yourself! While you&#39\;re at this event\, we encourage you to also patronize other beloved Arts District spots\, including: ?? Dream Country Brewing ?? Gene&#39\;s Place Pizzeria &amp\; Pub ?? The Table: Cookeville&#39\;s Board Game Lounge
LOCATION:Spring St. Arts District: Vertical Coffee Company Picasso's Gift Shop Wonderfill Refillery
UID:e.1993.2284
SEQUENCE:3
DTSTAMP:20260422T001025Z
URL:https://business.cookevillechamber.com/events/details/art-round-tennessee-first-friday-05-01-2026-2284
END:VEVENT

END:VCALENDAR
