BEGIN:VCALENDAR
VERSION:2.0
PRODID:-//ChamberMaster//Event Calendar 2.0//EN
METHOD:PUBLISH
X-PUBLISHED-TTL:P3D
REFRESH-INTERVAL:P3D
CALSCALE:GREGORIAN
BEGIN:VEVENT
DTSTART:20241108T150000Z
DTEND:20241109T230000Z
X-MICROSOFT-CDO-ALLDAYEVENT:FALSE
SUMMARY:21st Annual Mistletoe Market
DESCRIPTION:Join us at the Leslie Town Centre for our 21st Annual Mistletoe Market Event happening Friday\, November 8th 9am-7pm and Saturday\, November 9th 9am-5pm! This will be a great place to get your Christmas shopping done. $3 Cash Admission and under 10 is free!\n\n	50+ Local vendors\n	Selfies with Santa\n	Food trucks\n	Door prizes\n	Silent auction benefiting Friends of the Animals \n	st 25 people each day get a FREE Swag Bag filled with goodies\n	AND so much more!\n\n\n\nCall the Leslie Town Centre at 931-372-7200 if you have any questions.
X-ALT-DESC;FMTTYPE=text/html:Join us at the Leslie Town Centre for our 21st Annual Mistletoe Market Event happening Friday\, November 8th 9am-7pm and Saturday\, November 9th 9am-5pm! This will be a great place to get your Christmas shopping done. $3 Cash Admission and under 10 is free!\n<ul>\n	<li>50+ Local vendors</li>\n	<li>Selfies with Santa</li>\n	<li>Food trucks</li>\n	<li>Door prizes</li>\n	<li>Silent auction benefiting Friends of the Animals&nbsp\;</li>\n	<li>st 25 people each day get a FREE Swag Bag filled with goodies</li>\n	<li>AND so much more!</li>\n</ul>\n<br />\nCall the Leslie Town Centre at 931-372-7200 if you have any questions.
LOCATION:Leslie Town Centre 1 West First Street Cookeville\, TN 38501
UID:e.1993.1922
SEQUENCE:3
DTSTAMP:20260421T093953Z
URL:https://business.cookevillechamber.com/events/details/21st-annual-mistletoe-market-1922
END:VEVENT

END:VCALENDAR
